BEGIN:VCALENDAR
VERSION:2.0
PRODID:-//CCS+ Education Programme - ECPv6.15.20//NONSGML v1.0//EN
CALSCALE:GREGORIAN
METHOD:PUBLISH
X-WR-CALNAME:CCS+ Education Programme
X-ORIGINAL-URL:https://ccs-education.com
X-WR-CALDESC:Events for CCS+ Education Programme
REFRESH-INTERVAL;VALUE=DURATION:PT1H
X-Robots-Tag:noindex
X-PUBLISHED-TTL:PT1H
BEGIN:VTIMEZONE
TZID:Europe/Berlin
BEGIN:DAYLIGHT
TZOFFSETFROM:+0100
TZOFFSETTO:+0200
TZNAME:CEST
DTSTART:20250330T010000
END:DAYLIGHT
BEGIN:STANDARD
TZOFFSETFROM:+0200
TZOFFSETTO:+0100
TZNAME:CET
DTSTART:20251026T010000
END:STANDARD
BEGIN:DAYLIGHT
TZOFFSETFROM:+0100
TZOFFSETTO:+0200
TZNAME:CEST
DTSTART:20260329T010000
END:DAYLIGHT
BEGIN:STANDARD
TZOFFSETFROM:+0200
TZOFFSETTO:+0100
TZNAME:CET
DTSTART:20261025T010000
END:STANDARD
BEGIN:DAYLIGHT
TZOFFSETFROM:+0100
TZOFFSETTO:+0200
TZNAME:CEST
DTSTART:20270328T010000
END:DAYLIGHT
BEGIN:STANDARD
TZOFFSETFROM:+0200
TZOFFSETTO:+0100
TZNAME:CET
DTSTART:20271031T010000
END:STANDARD
END:VTIMEZONE
BEGIN:VEVENT
DTSTART;TZID=Europe/Berlin:20260913T080000
DTEND;TZID=Europe/Berlin:20260925T170000
DTSTAMP:20260424T153723
CREATED:20260424T121347Z
LAST-MODIFIED:20260424T121347Z
UID:4308-1789286400-1790355600@ccs-education.com
SUMMARY:CCS+ Summer School 2026
DESCRIPTION:Date: September 13th – 25th 2026 \nCities of programme: \n(BE) Brussels\,  (NL) Amersfoort\, (GER) Wildau\, Cottbus\, Berlin\n \nProgramme Overview: \n\nEuropean Institutions in rail and its structure in the rail sector\nRole of European Railway Organizations\nHistory of interlocking systems and focus on Electronic and Digital Interlockings\nCommand\, Control and Signaling (CCS)\nEuropean Rail Traffic Management System (ERTMS)\nEuropean Train Control System (ETCS)\nProcess & Risk Management of Digital Railway Systems\nDigital Networks\nFormal Methods\nEffect of Digitalization on Capacity\nDigital Rail Innovations\nTrainings and education in the context of Digital Interlocking Systems\nEquipping with ETCS\nCross-border connections and dependencies\nEU fundings and programs\nSERAS (EU project Single European Area of Skills)\nDigital Object Controllers incl. Workshop\nRailway Language in Europe\nTechnical supervision of Digital Interlocking Systems\nVisit Rail Days\nExcursion to Rail Fair InnoTrans\, Berlin\nHands on training at Cottbus interlocking training bay\nExcursion to the ICE and Diesel Locomotive Heavy Maintenance Facility\, Cottbus
URL:https://ccs-education.com/event/ccs-summer-school-2026/
LOCATION:Brussels\, Amersfoort\, Wildau
END:VEVENT
END:VCALENDAR